BEGIN:VCALENDAR
VERSION:2.0
PRODID:-//DP Pro Event Calendar//3.2.6//EN
BEGIN:VEVENT
UID:05eab5ba-5daf-4b9e-9723-c7e44b5004e7
DTSTART;TZID=Asia/Jerusalem:20210406T103000
DTEND;TZID=Asia/Jerusalem:20210406T123000
DTSTAMP:20210331T202306Z
SUMMARY:מפגש הכרות עם תהליכים לקידום תחום החקלאות
DESCRIPTION:חקלאי הנגב המערבי אתם מוזמנים למפגש הכרות עם תהליכים לקידום תחום החקלאות\r \n \r \n 
LOCATION:
URL:
END:VEVENT
END:VCALENDAR