BEGIN:VCALENDAR
VERSION:2.0
PRODID:-//DP Pro Event Calendar//3.2.6//EN
BEGIN:VEVENT
UID:b7380be2-d805-4096-97af-03b1b76ef9d1
DTSTART;TZID=Asia/Jerusalem:20210401T160000
DTEND;TZID=Asia/Jerusalem:20210401T163000
DTSTAMP:20210102T232856Z
SUMMARY:גד&quot\;ש בנעלי בית. סדרת הרצאות בפייסבוק לייב של הארגון. נושא ההרצאה: הדברת עשביה בעזרת חשמל‎
DESCRIPTION:עדי לוי 0529405547\r \n \r \n \r \n פרטים נוספים יינתנו בקרוב
LOCATION:
URL:
END:VEVENT
END:VCALENDAR